Workbook
Name \a: #N/A
Name \c: #N/A
Name \d: #N/A
Name \p: '[1]total employ'!#REF!
Name \p: '[1]total employ'!#REF!
Name _____Top20: [2]AveIncs!$A$3:$AZ$53
Name ____Top20: [2]AveIncs!$A$3:$AZ$53
Name ___Top20: [2]AveIncs!$A$3:$AZ$53
Name __SAT1: '[4]school-age pop70-96'!$FR$7904
Name __Top20: [2]AveIncs!$A$3:$AZ$53
Name _1INT_DEBT: '[5]12. Table 3-7'!#REF!
Name _4WORD_M_001_07: #N/A
Name _4WORD_O_005_L_: #N/A
Name _SAT1: '[6]school-age pop70-96'!$FR$7904
Name _Top20: [7]AveIncs!$A$3:$AZ$53
Name A: #REF!
Name A: #REF!
Name AA: #REF!
Name AA: #REF!
Name AL_MS: '[8]Tab01-02Spreadsheet (AL-MS)'!$A$1:$EA$193
Name Alabama: '[9]composition data - 2005'!$A$10:$A$60
Name AllCon: [10]ALPHA!$AB$1:$AC$50
Name AllTax: [11]TotalTax!$G$2:$BD$52
Name as: [12]AveIncs!$A$55:$I$105
Name asd: #REF!
Name asd: #REF!
Name asdd: [12]CapInc!$A$3:$J$53
Name AveIncomes: [13]AveIncs!$A$55:$I$105
Name B: #REF!
Name B: #REF!
Name BACKUP: #REF!
Name BACKUP: #REF!
Name BASELINE: #REF!
Name BASELINE: #REF!
Name Beer: '[14]97Beer1'!$A$1:$M$764
Name CapitalInc: [13]CapInc!$A$3:$J$53
Name CDROM: #REF!
Name CDROM: #REF!
Name changerange: [15]Link!$B$4:$AQ$54
Name changes: [15]Results!$A$1:$I$409
Name Cigs: '[14]97Cigs1'!$A$1:$M$779
Name CIT: [13]CITetc!$A$2:$B$52
Name citlook: #REF!
Name citlook: #REF!
Name Consumption: [13]Consump!$A$3:$J$53
Name Dies: '[14]97Dies'!$A$1:$M$779
Name DOLLARS: #REF!
Name DOLLARS: #REF!
Name everything: [16]SIM97!$A$1:$I$7114
Name FedOff: [13]FedOffset!$A$3:$I$53
Name footnotes: #REF!
Name footnotes: #REF!
Name FORLAN_DW: #N/A
Name fromyear: [17]Data!$B$24
Name Gas: '[14]97Gas'!$A$1:$M$779
Name GenSalesInd: [13]GStaxInd!$A$3:$K$53
Name GROWTH: #REF!
Name GROWTH: #REF!
Name GRWTH: #REF!
Name GRWTH: #REF!

Sheet Tax Changes
B2: Impacts of Cash Payments ($1,400 per spouse and $1,400 per dependent plus $2,000 for older dependents) in 2020 in the United States
B3: Income | C3: Income Range | F3: Average | G3: Tax Change | H3: Average | I3: Tax Change as | J3: Share of | K3: Share with | L3: Share with | M3: Adults Helped | O3: Children Helped
B4: Group | F4: Income | G4: 1000's | H4: Tax Change | I4: % of in 2020 income | J4: Tax Change | K4: Tax Cuts | L4: Tax Hikes | M4: Number | N4: % of Total | O4: Number | P4: % of Total
B5: Poorest 20% | C5: Less than | E5: 21300 | F5: 10900 | G5: -72129000 | H5: -2270 | I5: -0.20607088 | J5: 0.16630812 | K5: 0.99999849 | L5: 0 | M5: 36346700 | N5: 0.99999867 | O5: 13928200 | P5: 1
B6: Second 20% | C6: 21300 | D6: to | E6: 39800 | F6: 30500 | G6: -81600300 | H6: -2560 | I6: -0.083499196 | J6: 0.18814621 | K6: 0.99999892 | L6: 0 | M6: 39788900 | N6: 0.99999914 | O6: 16490700 | P6: 1
B7: Middle 20% | C7: 39800 | D7: to | E7: 65000 | F7: 51500 | G7: -89054100 | H7: -2800 | I7: -0.053950064 | J7: 0.20533256 | K7: 1 | L7: 0 | M7: 44401900 | N7: 1 | O7: 16928400 | P7: 1
B8: Fourth 20% | C8: 65000 | D8: to | E8: 111300 | F8: 85000 | G8: -101584100 | H8: -3190 | I8: -0.037168439 | J8: 0.23422294 | K8: 0.9999864 | L8: 0 | M8: 51890600 | N8: 0.99999165 | O8: 19413100 | P8: 1
B9: Next 15% | C9: 111300 | D9: to | E9: 247400 | F9: 156900 | G9: -81308500 | H9: -3400 | I9: -0.021329326 | J9: 0.18747348 | K9: 0.88133202 | L9: 0 | M9: 40880100 | N9: 0.93256035 | O9: 18788400 | P9: 0.99477569
B10: Next 4% | C10: 247400 | D10: to | E10: 601700 | F10: 358800 | G10: -5892700 | H10: -930 | I10: -0.0025142456 | J10: 0.013586869 | K10: 0.3246166 | L10: 0 | M10: 4218700 | N10: 0.35194843 | O10: 3104700 | P10: 0.5419662
B11: Richest 1% | C11: 601700 | D11: or more | F11: 1815800 | G11: -156000 | H11: -100 | I11: -5.014675e-05 | J11: 0.00035965578 | K11: 0.027086569 | L11: 0 | M11: 86800 | N11: 0.029135823 | O11: 73900 | P11: 0.043256191
B12: ALL | F12: 90900 | G12: -433706800 | H12: -2710 | I12: -0.029044817 | J12: 1 | K12: 0.94570625 | L12: 0 | M12: 218651000 | N12: 0.94137418 | O12: 89080100 | P12: 0.95336149
B13: Bottom 60% | C13: Less than | E13: 65000 | F13: 31000 | G13: -242783400 | H13: -2540 | I13: -0.081526865 | J13: 0.55978688 | K13: 0.99999914 | L13: 0 | M13: 120537500 | N13: 0.99999932 | O13: 47347300 | P13: 1
B15: Cash payment of $1,400 per filer/spouse and $1,400 for each dependent (any dependent) and provides $2,000 to dependents age 17 and older
B16: Phases out at a rate of 5% of AGI over $75,000/$112,500/$150,000.
B21: Impacts of Child Tax Credit Expansion: Makes Credit Fully Refundable (no dollar cap or earnings limit) and Increases Max Credit to $3,000/$3,600 in 2020 in the United States
B22: Income | C22: Income Range | F22: Average | G22: Tax Change | H22: Average | I22: Tax Change as | J22: Share of | K22: Share with | L22: Share with | M22: Adults Helped | O22: Children Helped
B23: Group | F23: Income | G23: 1000's | H23: Tax Change | I23: % of Income | J23: Tax Change | K23: Tax Cuts | L23: Tax Hikes | M23: Number | N23: % of Total | O23: Number | P23: % of Total
B24: Poorest 20% | C24: Less than | E24: 21300 | F24: 10900 | G24: -33752000 | H24: -1060 | I24: -0.096766779 | J24: 0.26914798 | K24: 0.23083793 | L24: 0 | M24: 9084500 | N24: 0.24871567 | O24: 13240500 | P24: 0.93124953
B25: Second 20% | C25: 21300 | D25: to | E25: 39800 | F25: 30500 | G25: -26336600 | H25: -820 | I25: -0.027022374 | J25: 0.21001511 | K25: 0.26368944 | L25: 0 | M25: 11629300 | N25: 0.29133137 | O25: 15270900 | P25: 0.91701711
B26: Middle 20% | C26: 39800 | D26: to | E26: 65000 | F26: 51500 | G26: -21091300 | H26: -660 | I26: -0.012801211 | J26: 0.16818775 | K26: 0.26113932 | L26: 0 | M26: 13372900 | N26: 0.29954171 | O26: 15539600 | P26: 0.90047336
B27: Fourth 20% | C27: 65000 | D27: to | E27: 111300 | F27: 85000 | G27: -20026200 | H27: -630 | I27: -0.0073604686 | J27: 0.15969475 | K27: 0.29047127 | L27: 0 | M27: 16951200 | N27: 0.32477874 | O27: 17082300 | P27: 0.88298188
B28: Next 15% | C28: 111300 | D28: to | E28: 247400 | F28: 156900 | G28: -17974700 | H28: -750 | I28: -0.0047741329 | J28: 0.14333547 | K28: 0.35893191 | L28: 0 | M28: 16893200 | N28: 0.38369988 | O28: 16233500 | P28: 0.87074136
B29: Next 4% | C29: 247400 | D29: to | E29: 601700 | F29: 358800 | G29: -5114500 | H29: -800 | I29: -0.0022286825 | J29: 0.040784728 | K29: 0.36245457 | L29: 0 | M29: 4677800 | N29: 0.38879205 | O29: 4746900 | P29: 0.83167342
B30: Richest 1% | C30: 601700 | D30: or more | F30: 1815800 | G30: -296800 | H30: -190 | I30: -0.00010217816 | J30: 0.0023666046 | K30: 0.082103003 | L30: 0 | M30: 268000 | N30: 0.089345144 | O30: 295600 | P30: 0.17074635
B31: ALL | F31: 90900 | G31: -125403300 | H31: -780 | I31: -0.0085830175 | J31: 1 | K31: 0.2780011 | L31: 0 | M31: 73137500 | N31: 0.3133937 | O31: 82713400 | P31: 0.88085587
B32: Bottom 60% | C32: Less than | E32: 65000 | F32: 31000 | G32: -81179900 | H32: -850 | I32: -0.027323915 | J32: 0.64735083 | K32: 0.25188809 | L32: 0 | M32: 34086700 | N32: 0.28150367 | O32: 44051000 | P32: 0.91528957
B37: Impact of EITC Expansion in 2020 in the United States (Maximum EITC for Childless Workers Roughly Tripled, Unearned Income Limit Eliminated)
B38: Income | C38: Income Range | F38: Average | G38: Tax Change | H38: Average | I38: Tax Change as | J38: Share of | K38: Share with | L38: Share with | M38: Adults Helped | O38: Children Helped
B39: Group | F39: Income | G39: 1000's | H39: Tax Change | I39: % of Income | J39: Tax Change | K39: Tax Cuts | L39: Tax Hikes | M39: Number | N39: % of Total | O39: Number | P39: % of Total
B40: Poorest 20% | C40: Less than | E40: 21300 | F40: 10900 | G40: -10276800 | H40: -320 | I40: -0.029463441 | J40: 0.79441887 | K40: 0.43682596 | L40: 0.00024826947 | M40: 15124500 | N40: 0.41407814 | O40: 111100 | P40: 0.0078140822
B41: Second 20% | C41: 21300 | D41: to | E41: 39800 | F41: 30500 | G41: -1644900 | H41: -50 | I41: -0.0016877164 | J41: 0.12715333 | K41: 0.075930213 | L41: 3.5806003e-05 | M41: 3155200 | N41: 0.079041702 | O41: 50200 | P41: 0.0030160551
B42: Middle 20% | C42: 39800 | D42: to | E42: 65000 | F42: 51500 | G42: -710100 | H42: -20 | I42: -0.000430987 | J42: 0.054891957 | K42: 0.032054924 | L42: 0.00018618491 | M42: 1595100 | N42: 0.035729097 | O42: 146100 | P42: 0.0084671421
B43: Fourth 20% | C43: 65000 | D43: to | E43: 111300 | F43: 85000 | G43: -196900 | H43: -10 | I43: -7.237489e-05 | J43: 0.015222092 | K43: 0.006258826 | L43: 1.9569181e-06 | M43: 364400 | N43: 0.0069813569 | O43: 86500 | P43: 0.0044688753
B44: Next 15% | C44: 111300 | D44: to | E44: 247400 | F44: 156900 | G44: -38600 | H44: 0 | I44: -1.0257108e-05 | J44: 0.0029852818 | K44: 0.0015826288 | L44: 0 | M44: 69000 | N44: 0.0015674589 | O44: 15700 | P44: 0.00084173651
B45: Next 4% | C45: 247400 | D45: to | E45: 601700 | F45: 358800 | G45: -2300 | H45: 0 | I45: -1.0070894e-06 | J45: 0.00017865643 | K45: 0.00021910364 | L45: 0 | M45: 2800 | N45: 0.00023132212 | O45: 1600 | P45: 0.00028470139
B46: Richest 1% | C46: 601700 | D46: or more | F46: 1815800 | G46: -1000 | H46: 0 | I46: -3.3017838e-07 | J46: 7.4134012e-05 | K46: 0.00023072612 | L46: 0 | M46: 700 | N46: 0.00023699675 | O46: 400 | P46: 0.00023691106
B47: ALL | F47: 90900 | G47: -12936200 | H47: -80 | I47: -0.00088539844 | J47: 1 | K47: 0.11047045 | L47: 9.4001524e-05 | M47: 20423900 | N47: 0.087516294 | O47: 435900 | P47: 0.0046420879
B48: Bottom 60% | C48: Less than | E48: 65000 | F48: 31000 | G48: -12631800 | H48: -130 | I48: -0.0042516575 | J48: 0.97646416 | K48: 0.18161416 | L48: 0.00015675563 | M48: 19874700 | N48: 0.16413464 | O48: 307400 | P48: 0.0063880786

Sheet Combined Effect of Tax Changes
B2: FIGURE 1
B3: Impacts of Three Tax Changes in American Rescue Plan in 2020
B4: Income | C4: Income Range | F4: Average | G4: Average Change as % of Income
B5: Group | F5: Income | G5: Cash Payments | H5: CTC Expansion | I5: EITC Expansion | J5: Combined
B6: Poorest 20% | C6: Less than | E6: 21300 | F6: 10900 | G6: ='Tax Changes'!I5 -> -0.20607088 | H6: ='Tax Changes'!I24 -> -0.096766779 | I6: ='Tax Changes'!I40 -> -0.029463441 | J6: =SUM(G6:I6) -> -0.3323011
B7: Second 20% | C7: 21300 | D7: to | E7: 39800 | F7: 30500 | G7: ='Tax Changes'!I6 -> -0.083499196 | H7: ='Tax Changes'!I25 -> -0.027022374 | I7: ='Tax Changes'!I41 -> -0.0016877164 | J7: =SUM(G7:I7) -> -0.11220929
B8: Middle 20% | C8: 39800 | D8: to | E8: 65000 | F8: 51500 | G8: ='Tax Changes'!I7 -> -0.053950064 | H8: ='Tax Changes'!I26 -> -0.012801211 | I8: ='Tax Changes'!I42 -> -0.000430987 | J8: =SUM(G8:I8) -> -0.067182262
B9: Fourth 20% | C9: 65000 | D9: to | E9: 111300 | F9: 85000 | G9: ='Tax Changes'!I8 -> -0.037168439 | H9: ='Tax Changes'!I27 -> -0.0073604686 | I9: ='Tax Changes'!I43 -> -7.237489e-05 | J9: =SUM(G9:I9) -> -0.044601282
B10: Next 15% | C10: 111300 | D10: to | E10: 247400 | F10: 156900 | G10: ='Tax Changes'!I9 -> -0.021329326 | H10: ='Tax Changes'!I28 -> -0.0047741329 | I10: ='Tax Changes'!I44 -> -1.0257108e-05 | J10: =SUM(G10:I10) -> -0.026113716
B11: Next 4% | C11: 247400 | D11: to | E11: 601700 | F11: 358800 | G11: ='Tax Changes'!I10 -> -0.0025142456 | H11: ='Tax Changes'!I29 -> -0.0022286825 | I11: ='Tax Changes'!I45 -> -1.0070894e-06 | J11: =SUM(G11:I11) -> -0.0047439352
B12: Richest 1% | C12: 601700 | D12: or more | F12: 1815800 | G12: ='Tax Changes'!I11 -> -5.014675e-05 | H12: ='Tax Changes'!I30 -> -0.00010217816 | I12: ='Tax Changes'!I46 -> -3.3017838e-07 | J12: =SUM(G12:I12) -> -0.00015265509
B13: ALL | F13: 90900 | G13: ='Tax Changes'!I12 -> -0.029044817 | H13: ='Tax Changes'!I31 -> -0.0085830175 | I13: ='Tax Changes'!I47 -> -0.00088539844 | J13: =SUM(G13:I13) -> -0.038513233
B14: Bottom 60% | C14: Less than | E14: 65000 | F14: 31000 | G14: ='Tax Changes'!I13 -> -0.081526865 | H14: ='Tax Changes'!I32 -> -0.027323915 | I14: ='Tax Changes'!I48 -> -0.0042516575 | J14: =SUM(G14:I14) -> -0.11310244
B21: FIGURE 2
B22: Impacts of Three Tax Changes in American Rescue Plan in 2020
B23: Income | C23: Income Range | F23: Average | G23: Average Tax Change
B24: Group | F24: Income | G24: Cash Payments | H24: CTC Expansion | I24: EITC Expansion | J24: Combined
B25: Poorest 20% | C25: Less than | E25: 21300 | F25: 10900 | G25: ='Tax Changes'!H5 -> -2270 | H25: ='Tax Changes'!H24 -> -1060 | I25: ='Tax Changes'!H40 -> -320 | J25: =SUM(G25:I25) -> -3650
B26: Second 20% | C26: 21300 | D26: to | E26: 39800 | F26: 30500 | G26: ='Tax Changes'!H6 -> -2560 | H26: ='Tax Changes'!H25 -> -820 | I26: ='Tax Changes'!H41 -> -50 | J26: =SUM(G26:I26) -> -3430
B27: Middle 20% | C27: 39800 | D27: to | E27: 65000 | F27: 51500 | G27: ='Tax Changes'!H7 -> -2800 | H27: ='Tax Changes'!H26 -> -660 | I27: ='Tax Changes'!H42 -> -20 | J27: =SUM(G27:I27) -> -3480
B28: Fourth 20% | C28: 65000 | D28: to | E28: 111300 | F28: 85000 | G28: ='Tax Changes'!H8 -> -3190 | H28: ='Tax Changes'!H27 -> -630 | I28: ='Tax Changes'!H43 -> -10 | J28: =SUM(G28:I28) -> -3830
B29: Next 15% | C29: 111300 | D29: to | E29: 247400 | F29: 156900 | G29: ='Tax Changes'!H9 -> -3400 | H29: ='Tax Changes'!H28 -> -750 | I29: ='Tax Changes'!H44 -> 0 | J29: =SUM(G29:I29) -> -4150
B30: Next 4% | C30: 247400 | D30: to | E30: 601700 | F30: 358800 | G30: ='Tax Changes'!H10 -> -930 | H30: ='Tax Changes'!H29 -> -800 | I30: ='Tax Changes'!H45 -> 0 | J30: =SUM(G30:I30) -> -1730
B31: Richest 1% | C31: 601700 | D31: or more | F31: 1815800 | G31: ='Tax Changes'!H11 -> -100 | H31: ='Tax Changes'!H30 -> -190 | I31: ='Tax Changes'!H46 -> 0 | J31: =SUM(G31:I31) -> -290
B32: ALL | F32: 90900 | G32: ='Tax Changes'!H12 -> -2710 | H32: ='Tax Changes'!H31 -> -780 | I32: ='Tax Changes'!H47 -> -80 | J32: =SUM(G32:I32) -> -3570
B33: Bottom 60% | C33: Less than | E33: 65000 | F33: 31000 | G33: ='Tax Changes'!H13 -> -2540 | H33: ='Tax Changes'!H32 -> -850 | I33: ='Tax Changes'!H48 -> -130 | J33: =SUM(G33:I33) -> -3520

Sheet More Detail on Cash Payments
B2: Impacts of Payment in CASH Act ($1,400 per spouse and $1,400 per dependent plus $2,000 for older dependents) in 2020 in the United States
B3: Income | C3: Income Range | F3: Average | G3: Tax Change | H3: Average | I3: Tax Change as | J3: Share of | K3: Share with | L3: Share with | M3: Adults Helped | O3: Children Helped
B4: Group | F4: Income | G4: 1000's | H4: Tax Change | I4: % of Income | J4: Tax Change | K4: Tax Cuts | L4: Tax Hikes | M4: Number | N4: % of Total | O4: Number | P4: % of Total
B5: Poorest 20% | C5: Less than | E5: 21300 | F5: 10900 | G5: -72129000 | H5: -2270 | I5: -0.20607088 | J5: 0.16630812 | K5: 0.99999849 | L5: 0 | M5: 36346700 | N5: 0.99999867 | O5: 13928200 | P5: 1
B6: Second 20% | C6: 21300 | D6: to | E6: 39800 | F6: 30500 | G6: -81600300 | H6: -2560 | I6: -0.083499196 | J6: 0.18814621 | K6: 0.99999892 | L6: 0 | M6: 39788900 | N6: 0.99999914 | O6: 16490700 | P6: 1
B7: Middle 20% | C7: 39800 | D7: to | E7: 65000 | F7: 51500 | G7: -89054100 | H7: -2800 | I7: -0.053950064 | J7: 0.20533256 | K7: 1 | L7: 0 | M7: 44401900 | N7: 1 | O7: 16928400 | P7: 1
B8: Fourth 20% | C8: 65000 | D8: to | E8: 111300 | F8: 85000 | G8: -101584100 | H8: -3190 | I8: -0.037168439 | J8: 0.23422294 | K8: 0.9999864 | L8: 0 | M8: 51890600 | N8: 0.99999165 | O8: 19413100 | P8: 1
B9: Next 15% | C9: 111300 | D9: to | E9: 247400 | F9: 156900 | G9: -81308500 | H9: -3400 | I9: -0.021329326 | J9: 0.18747348 | K9: 0.88133202 | L9: 0 | M9: 40880100 | N9: 0.93256035 | O9: 18788400 | P9: 0.99477569
B10: Next 4% | C10: 247400 | D10: to | E10: 601700 | F10: 358800 | G10: -5892700 | H10: -930 | I10: -0.0025142456 | J10: 0.013586869 | K10: 0.3246166 | L10: 0 | M10: 4218700 | N10: 0.35194843 | O10: 3104700 | P10: 0.5419662
B11: Richest 1% | C11: 601700 | D11: or more | F11: 1815800 | G11: -156000 | H11: -100 | I11: -5.014675e-05 | J11: 0.00035965578 | K11: 0.027086569 | L11: 0 | M11: 86800 | N11: 0.029135823 | O11: 73900 | P11: 0.043256191
B12: ALL | F12: 90900 | G12: -433706800 | H12: -2710 | I12: -0.029044817 | J12: 1 | K12: 0.94570625 | L12: 0 | M12: 218651000 | N12: 0.94137418 | O12: 89080100 | P12: 0.95336149
B13: Bottom 60% | C13: Less than | E13: 65000 | F13: 31000 | G13: -242783400 | H13: -2540 | I13: -0.081526865 | J13: 0.55978688 | K13: 0.99999914 | L13: 0 | M13: 120537500 | N13: 0.99999932 | O13: 47347300 | P13: 1
B15: Cash payment of $1,400 per filer/spouse and $1,400 for each dependent (any dependent) and provides $2,000 to dependents age 17 and older
B16: Phases out at a rate of 5% of AGI over $75,000/$112,500/$150,000.
B17: This estimate does not include the the CASH Act provision expanding the CARES Act's $500 payment to include dependents who are not children.
B21: Impacts of Payment in CASH Act ($1,400 per spouse and $1,400 per dependent plus $2,000 for older dependents) in 2020 in Alabama
B22: Income | C22: Income Range | F22: Average | G22: Tax Change | H22: Average | I22: Tax Change as | J22: Share of | K22: Share with | L22: Share with | M22: Adults Helped | O22: Children Helped
B23: Group | F23: Income | G23: 1000's | H23: Tax Change | I23: % of Income | J23: Tax Change | K23: Tax Cuts | L23: Tax Hikes | M23: Number | N23: % of Total | O23: Number | P23: % of Total
B24: Poorest 20% | C24: Less than | E24: 20400 | F24: 12200 | G24: -1147800 | H24: -2490 | I24: -0.2009164 | J24: 0.17060347 | K24: 1 | L24: 0 | M24: 526800 | N24: 1 | O24: 268400 | P24: 1
B25: Second 20% | C25: 20400 | D25: to | E25: 35500 | F25: 27900 | G25: -1184000 | H25: -2560 | I25: -0.091679051 | J25: 0.17597509 | K25: 1 | L25: 0 | M25: 540200 | N25: 1 | O25: 276500 | P25: 1
B26: Middle 20% | C26: 35500 | D26: to | E26: 56700 | F26: 46400 | G26: -1197400 | H26: -2630 | I26: -0.05680003 | J26: 0.17796774 | K26: 1 | L26: 0 | M26: 607300 | N26: 1 | O26: 215200 | P26: 1
B27: Fourth 20% | C27: 56700 | D27: to | E27: 92900 | F27: 70900 | G27: -1634100 | H27: -3490 | I27: -0.049343781 | J27: 0.24287587 | K27: 1 | L27: 0 | M27: 824700 | N27: 1 | O27: 281900 | P27: 1
B28: Next 15% | C28: 92900 | D28: to | E28: 191100 | F28: 129300 | G28: -1213900 | H28: -3500 | I28: -0.026547253 | J28: 0.18042483 | K28: 0.92813361 | L28: 0 | M28: 597800 | N28: 0.95992581 | O28: 261300 | P28: 1
B29: Next 4% | C29: 191100 | D29: to | E29: 479100 | F29: 283100 | G29: -213300 | H29: -2320 | I29: -0.0081093419 | J29: 0.03170548 | K29: 0.69506744 | L29: 0 | M29: 136000 | N29: 0.72565232 | O29: 68500 | P29: 0.86640838
B30: Richest 1% | C30: 479100 | D30: or more | F30: 1143500 | G30: -2000 | H30: -90 | I30: -7.2173863e-05 | J30: 0.00029770764 | K30: 0.03781336 | L30: 0 | M30: 1500 | N30: 0.033991731 | O30: 1500 | P30: 0.065957614
B31: ALL | F31: 70800 | G31: -6728200 | H31: -2820 | I31: -0.039193695 | J31: 1 | K31: 0.96827882 | L31: 0 | M31: 3318900 | N31: 0.96510075 | O31: 1384600 | P31: 0.9778956
B35: Impacts of Payment in CASH Act ($1,400 per spouse and $1,400 per dependent plus $2,000 for older dependents) in 2020 in Alaska
B36: Income | C36: Income Range | F36: Average | G36: Tax Change | H36: Average | I36: Tax Change as | J36: Share of | K36: Share with | L36: Share with | M36: Adults Helped | O36: Children Helped
B37: Group | F37: Income | G37: 1000's | H37: Tax Change | I37: % of Income | J37: Tax Change | K37: Tax Cuts | L37: Tax Hikes | M37: Number | N37: % of Total | O37: Number | P37: % of Total
B38: Poorest 20% | C38: Less than | E38: 22200 | F38: 11200 | G38: -167600 | H38: -2340 | I38: -0.2072213 | J38: 0.1711415 | K38: 1 | L38: 0 | M38: 80000 | N38: 1 | O38: 37700 | P38: 1
B39: Second 20% | C39: 22200 | D39: to | E39: 43400 | F39: 32500 | G39: -188300 | H39: -2620 | I39: -0.080143567 | J39: 0.19231888 | K39: 1 | L39: 0 | M39: 90300 | N39: 1 | O39: 39900 | P39: 1
B40: Middle 20% | C40: 43400 | D40: to | E40: 69700 | F40: 55300 | G40: -181400 | H40: -2490 | I40: -0.045180393 | J40: 0.1852191 | K40: 1 | L40: 0 | M40: 93600 | N40: 1 | O40: 34800 | P40: 1
B41: Fourth 20% | C41: 69700 | D41: to | E41: 132200 | F41: 94000 | G41: -242600 | H41: -3360 | I41: -0.035612037 | J41: 0.24779202 | K41: 0.99408318 | L41: 0 | M41: 112300 | N41: 0.99621483 | O41: 61500 | P41: 1
B42: Next 15% | C42: 132200 | D42: to | E42: 245400 | F42: 168900 | G42: -170000 | H42: -3120 | I42: -0.018306264 | J42: 0.17357288 | K42: 0.86031507 | L42: 0 | M42: 90300 | N42: 0.92219326 | O42: 37100 | P42: 0.99067961
B43: Next 4% | C43: 245400 | D43: to | E43: 551900 | F43: 325700 | G43: -18000 | H43: -1250 | I43: -0.0037461499 | J43: 0.01839695 | K43: 0.37532569 | L43: 0 | M43: 10900 | N43: 0.40106879 | O43: 8900 | P43: 0.70243169
B44: Richest 1% | C44: 551900 | D44: or more | F44: 1229200 | G44: -300 | H44: -70 | I44: -5.7556581e-05 | J44: 0.00027237658 | K44: 0.022681763 | L44: 0 | M44: 200 | N44: 0.025799997 | O44: 100 | P44: 0.044257779
B45: ALL | F45: 88000 | G45: -979200 | H45: -2660 | I45: -0.030002198 | J45: 1 | K45: 0.94389001 | L45: 0 | M45: 484400 | N45: 0.94079936 | O45: 221100 | P45: 0.96833631
B49: Impacts of Payment in CASH Act ($1,400 per spouse and $1,400 per dependent plus $2,000 for older dependents) in 2020 in Arizona
B50: Income | C50: Income Range | F50: Average | G50: Tax Change | H50: Average | I50: Tax Change as | J50: Share of | K50: Share with | L50: Share with | M50: Adults Helped | O50: Children Helped
B51: Group | F51: Income | G51: 1000's | H51: Tax Change | I51: % of Income | J51: Tax Change | K51: Tax Cuts | L51: Tax Hikes | M51: Number | N51: % of Total | O51: Number | P51: % of Total
...
